Package: farms Version: 1.50.0 Command: rm -rf farms.buildbin-libdir && mkdir farms.buildbin-libdir && F:\biocbuild\bbs-3.16-bioc\R\bin\R.exe CMD INSTALL --build --library=farms.buildbin-libdir farms_1.50.0.tar.gz StartedAt: 2023-04-11 07:58:58 -0400 (Tue, 11 Apr 2023) EndedAt: 2023-04-11 07:59:05 -0400 (Tue, 11 Apr 2023) EllapsedTime: 7.1 seconds RetCode: 0 Status: OK PackageFile: farms_1.50.0.zip PackageFileSize: 278.1 KiB