Package: fedup Version: 1.6.0 Command: /Library/Frameworks/R.framework/Resources/bin/R CMD check --install=check:fedup.install-out.txt --library=/Library/Frameworks/R.framework/Resources/library --no-vignettes --timings fedup_1.6.0.tar.gz StartedAt: 2023-04-10 20:11:57 -0400 (Mon, 10 Apr 2023) EndedAt: 2023-04-10 20:15:26 -0400 (Mon, 10 Apr 2023) EllapsedTime: 209.3 seconds RetCode: 0 Status: OK CheckDir: fedup.Rcheck Warnings: 0