Package: fedup Version: 1.6.0 Command: F:\biocbuild\bbs-3.16-bioc\R\bin\R.exe CMD INSTALL fedup StartedAt: 2023-04-10 15:46:52 -0400 (Mon, 10 Apr 2023) EndedAt: 2023-04-10 15:47:11 -0400 (Mon, 10 Apr 2023) EllapsedTime: 18.4 seconds RetCode: 0 Status: OK