Package: flowDensity Version: 1.32.0 Command: /home/biocbuild/bbs-3.16-bioc/R/bin/R CMD check --install=check:flowDensity.install-out.txt --library=/home/biocbuild/bbs-3.16-bioc/R/site-library --timings flowDensity_1.32.0.tar.gz StartedAt: 2023-04-10 20:44:50 -0400 (Mon, 10 Apr 2023) EndedAt: 2023-04-10 20:46:49 -0400 (Mon, 10 Apr 2023) EllapsedTime: 119.3 seconds RetCode: 0 Status: WARNINGS CheckDir: flowDensity.Rcheck Warnings: 4