Package: geneAttribution Version: 1.24.0 Command: rm -rf geneAttribution.buildbin-libdir && mkdir geneAttribution.buildbin-libdir && F:\biocbuild\bbs-3.16-bioc\R\bin\R.exe CMD INSTALL --build --library=geneAttribution.buildbin-libdir geneAttribution_1.24.0.tar.gz StartedAt: 2023-04-11 08:02:11 -0400 (Tue, 11 Apr 2023) EndedAt: 2023-04-11 08:03:16 -0400 (Tue, 11 Apr 2023) EllapsedTime: 64.6 seconds RetCode: 0 Status: OK PackageFile: geneAttribution_1.24.0.zip PackageFileSize: 68.33 KiB