Package: geneClassifiers Version: 1.22.0 Command: chmod a+r geneClassifiers -R && F:\biocbuild\bbs-3.16-bioc\R\bin\R.exe CMD build --keep-empty-dirs --no-resave-data geneClassifiers StartedAt: 2023-04-10 18:52:50 -0400 (Mon, 10 Apr 2023) EndedAt: 2023-04-10 18:53:18 -0400 (Mon, 10 Apr 2023) EllapsedTime: 27.7 seconds RetCode: 0 Status: OK PackageFile: geneClassifiers_1.22.0.tar.gz PackageFileSize: 1.701 MiB