Package: geneRxCluster Version: 1.34.0 Command: rm -rf geneRxCluster.buildbin-libdir && mkdir geneRxCluster.buildbin-libdir && /Users/biocbuild/BBS/utils/build-universal.sh geneRxCluster_1.34.0.tar.gz /Library/Frameworks/R.framework/Resources/bin/R geneRxCluster.buildbin-libdir StartedAt: 2023-04-10 23:44:53 -0400 (Mon, 10 Apr 2023) EndedAt: 2023-04-10 23:45:08 -0400 (Mon, 10 Apr 2023) EllapsedTime: 14.9 seconds RetCode: 0 Status: OK PackageFile: geneRxCluster_1.34.0.tgz PackageFileSize: 336.8 KiB