Package: geneRxCluster Version: 1.34.0 Command: /home/biocbuild/bbs-3.16-bioc/R/bin/R CMD check --install=check:geneRxCluster.install-out.txt --library=/home/biocbuild/bbs-3.16-bioc/R/site-library --timings geneRxCluster_1.34.0.tar.gz StartedAt: 2023-04-10 20:53:41 -0400 (Mon, 10 Apr 2023) EndedAt: 2023-04-10 20:55:42 -0400 (Mon, 10 Apr 2023) EllapsedTime: 120.6 seconds RetCode: 0 Status: OK CheckDir: geneRxCluster.Rcheck Warnings: 0