Package: geneRxCluster Version: 1.34.0 Command: chmod a+r geneRxCluster -R && F:\biocbuild\bbs-3.16-bioc\R\bin\R.exe CMD build --keep-empty-dirs --no-resave-data geneRxCluster StartedAt: 2023-04-10 18:53:49 -0400 (Mon, 10 Apr 2023) EndedAt: 2023-04-10 18:54:34 -0400 (Mon, 10 Apr 2023) EllapsedTime: 44.6 seconds RetCode: 0 Status: OK PackageFile: geneRxCluster_1.34.0.tar.gz PackageFileSize: 142.8 KiB