Package: genoCN Version: 1.50.0 Command: /Library/Frameworks/R.framework/Resources/bin/R CMD build --keep-empty-dirs --no-resave-data genoCN StartedAt: 2023-04-10 16:39:14 -0400 (Mon, 10 Apr 2023) EndedAt: 2023-04-10 16:39:29 -0400 (Mon, 10 Apr 2023) EllapsedTime: 14.6 seconds RetCode: 0 Status: OK PackageFile: genoCN_1.50.0.tar.gz PackageFileSize: 1.138 MiB