git_url: https://git.bioconductor.org/packages/ggbio git_branch: RELEASE_3_16 git_last_commit: d9c6cb4 git_last_commit_date: 2022-11-01 11:06:25 -0400 (Tue, 01 Nov 2022) Package: ggbio Version: 1.46.0 Maintainer: Michael Lawrence MaintainerEmail: michafla at gene.com