git_url: https://git.bioconductor.org/packages/gwascat git_branch: RELEASE_3_16 git_last_commit: 16acbd9 git_last_commit_date: 2022-11-01 11:06:43 -0400 (Tue, 01 Nov 2022) Package: gwascat Version: 2.30.0 Maintainer: VJ Carey MaintainerEmail: stvjc at channing.harvard.edu