Package: gwascat Version: 2.29.1 Command: /Library/Frameworks/R.framework/Resources/bin/R CMD INSTALL gwascat StartedAt: 2022-07-10 18:49:41 -0400 (Sun, 10 Jul 2022) EndedAt: 2022-07-10 18:49:42 -0400 (Sun, 10 Jul 2022) EllapsedTime: 1.1 seconds RetCode: 1 Status: ERROR