Package: iSEEu Version: 1.10.1 Command: rm -rf iSEEu.buildbin-libdir && mkdir iSEEu.buildbin-libdir && /Users/biocbuild/BBS/utils/build-universal.sh iSEEu_1.10.1.tar.gz /Library/Frameworks/R.framework/Resources/bin/R iSEEu.buildbin-libdir StartedAt: 2023-04-10 23:48:52 -0400 (Mon, 10 Apr 2023) EndedAt: 2023-04-10 23:49:35 -0400 (Mon, 10 Apr 2023) EllapsedTime: 43.0 seconds RetCode: 0 Status: OK PackageFile: iSEEu_1.10.1.tgz PackageFileSize: 1.27 MiB