Package: karyoploteR Version: 1.24.0 Command: /Library/Frameworks/R.framework/Resources/bin/R CMD build --keep-empty-dirs --no-resave-data karyoploteR StartedAt: 2023-04-10 16:56:14 -0400 (Mon, 10 Apr 2023) EndedAt: 2023-04-10 16:57:33 -0400 (Mon, 10 Apr 2023) EllapsedTime: 79.1 seconds RetCode: 0 Status: OK PackageFile: karyoploteR_1.24.0.tar.gz PackageFileSize: 1.545 MiB