Package: karyoploteR Version: 1.24.0 Command: /home/biocbuild/bbs-3.16-bioc/R/bin/R CMD build --keep-empty-dirs --no-resave-data karyoploteR StartedAt: 2023-04-10 17:05:38 -0400 (Mon, 10 Apr 2023) EndedAt: 2023-04-10 17:06:59 -0400 (Mon, 10 Apr 2023) EllapsedTime: 80.3 seconds RetCode: 0 Status: OK PackageFile: karyoploteR_1.24.0.tar.gz PackageFileSize: 1.571 MiB