Package: karyoploteR Version: 1.24.0 Command: /home/biocbuild/bbs-3.16-bioc/R/bin/R CMD check --install=check:karyoploteR.install-out.txt --library=/home/biocbuild/bbs-3.16-bioc/R/site-library --timings karyoploteR_1.24.0.tar.gz StartedAt: 2023-04-10 21:32:21 -0400 (Mon, 10 Apr 2023) EndedAt: 2023-04-10 21:40:32 -0400 (Mon, 10 Apr 2023) EllapsedTime: 491.6 seconds RetCode: 0 Status: OK CheckDir: karyoploteR.Rcheck Warnings: 0