Package: karyoploteR Version: 1.24.0 Command: /home/biocbuild/bbs-3.16-bioc/R/bin/R CMD INSTALL karyoploteR StartedAt: 2023-04-10 15:50:52 -0400 (Mon, 10 Apr 2023) EndedAt: 2023-04-10 15:51:54 -0400 (Mon, 10 Apr 2023) EllapsedTime: 61.6 seconds RetCode: 0 Status: OK