Package: karyoploteR Version: 1.24.0 Command: chmod a+r karyoploteR -R && F:\biocbuild\bbs-3.16-bioc\R\bin\R.exe CMD build --keep-empty-dirs --no-resave-data karyoploteR StartedAt: 2023-04-10 19:26:51 -0400 (Mon, 10 Apr 2023) EndedAt: 2023-04-10 19:28:21 -0400 (Mon, 10 Apr 2023) EllapsedTime: 90.1 seconds RetCode: 0 Status: OK PackageFile: karyoploteR_1.24.0.tar.gz PackageFileSize: 846.1 KiB