Package: lfa Version: 1.28.2 Command: F:\biocbuild\bbs-3.16-bioc\R\bin\R.exe CMD check --no-multiarch --install=check:lfa.install-out.txt --library=F:\biocbuild\bbs-3.16-bioc\R\library --no-vignettes --timings lfa_1.28.2.tar.gz StartedAt: 2023-04-11 02:46:57 -0400 (Tue, 11 Apr 2023) EndedAt: 2023-04-11 02:48:22 -0400 (Tue, 11 Apr 2023) EllapsedTime: 84.5 seconds RetCode: 0 Status: WARNINGS CheckDir: lfa.Rcheck Warnings: 1