Package: methylGSA Version: 1.16.0 Command: /Library/Frameworks/R.framework/Resources/bin/R CMD build --keep-empty-dirs --no-resave-data methylGSA StartedAt: 2023-04-10 17:04:56 -0400 (Mon, 10 Apr 2023) EndedAt: 2023-04-10 17:06:38 -0400 (Mon, 10 Apr 2023) EllapsedTime: 101.9 seconds RetCode: 0 Status: OK PackageFile: methylGSA_1.16.0.tar.gz PackageFileSize: 3.129 MiB