Package: methylGSA Version: 1.16.0 Command: /home/biocbuild/bbs-3.16-bioc/R/bin/R CMD check --install=check:methylGSA.install-out.txt --library=/home/biocbuild/bbs-3.16-bioc/R/site-library --timings methylGSA_1.16.0.tar.gz StartedAt: 2023-04-10 21:52:21 -0400 (Mon, 10 Apr 2023) EndedAt: 2023-04-10 21:59:45 -0400 (Mon, 10 Apr 2023) EllapsedTime: 443.8 seconds RetCode: 0 Status: OK CheckDir: methylGSA.Rcheck Warnings: 0