Package: miRNApath Version: 1.57.0 Command: rm -rf miRNApath.buildbin-libdir && mkdir miRNApath.buildbin-libdir && /Users/biocbuild/BBS/utils/build-universal.sh miRNApath_1.57.0.tar.gz /Library/Frameworks/R.framework/Resources/bin/R miRNApath.buildbin-libdir StartedAt: 2022-07-07 08:28:48 -0400 (Thu, 07 Jul 2022) EndedAt: 2022-07-07 08:28:56 -0400 (Thu, 07 Jul 2022) EllapsedTime: 7.8 seconds RetCode: 0 Status: OK PackageFile: miRNApath_1.57.0.tgz PackageFileSize: 817.1 KiB