Package: miRNApath Version: 1.58.0 Command: rm -rf miRNApath.buildbin-libdir && mkdir miRNApath.buildbin-libdir && F:\biocbuild\bbs-3.16-bioc\R\bin\R.exe CMD INSTALL --build --library=miRNApath.buildbin-libdir miRNApath_1.58.0.tar.gz StartedAt: 2023-04-11 08:19:26 -0400 (Tue, 11 Apr 2023) EndedAt: 2023-04-11 08:19:41 -0400 (Tue, 11 Apr 2023) EllapsedTime: 14.8 seconds RetCode: 0 Status: OK PackageFile: miRNApath_1.58.0.zip PackageFileSize: 712.1 KiB