Package: microbiomeExplorer Version: 1.8.0 Command: /home/biocbuild/bbs-3.16-bioc/R/bin/R CMD check --install=check:microbiomeExplorer.install-out.txt --library=/home/biocbuild/bbs-3.16-bioc/R/site-library --timings microbiomeExplorer_1.8.0.tar.gz StartedAt: 2023-04-10 21:56:59 -0400 (Mon, 10 Apr 2023) EndedAt: 2023-04-10 21:59:14 -0400 (Mon, 10 Apr 2023) EllapsedTime: 135.8 seconds RetCode: 0 Status: OK CheckDir: microbiomeExplorer.Rcheck Warnings: 0