Package: missMethyl Version: 1.32.1 Command: rm -rf missMethyl.buildbin-libdir && mkdir missMethyl.buildbin-libdir && /Users/biocbuild/BBS/utils/build-universal.sh missMethyl_1.32.1.tar.gz /Library/Frameworks/R.framework/Resources/bin/R missMethyl.buildbin-libdir StartedAt: 2023-04-10 23:52:28 -0400 (Mon, 10 Apr 2023) EndedAt: 2023-04-10 23:56:39 -0400 (Mon, 10 Apr 2023) EllapsedTime: 251.3 seconds RetCode: 0 Status: OK PackageFile: missMethyl_1.32.1.tgz PackageFileSize: 1.367 MiB