Package: missMethyl Version: 1.32.1 Command: chmod a+r missMethyl -R && F:\biocbuild\bbs-3.16-bioc\R\bin\R.exe CMD build --keep-empty-dirs --no-resave-data missMethyl StartedAt: 2023-04-10 19:53:26 -0400 (Mon, 10 Apr 2023) EndedAt: 2023-04-10 20:09:09 -0400 (Mon, 10 Apr 2023) EllapsedTime: 943.7 seconds RetCode: 0 Status: OK PackageFile: missMethyl_1.32.1.tar.gz PackageFileSize: 637.7 KiB