Package: msmsTests Version: 1.36.0 Command: /Library/Frameworks/R.framework/Resources/bin/R CMD INSTALL msmsTests StartedAt: 2023-04-10 15:23:54 -0400 (Mon, 10 Apr 2023) EndedAt: 2023-04-10 15:24:14 -0400 (Mon, 10 Apr 2023) EllapsedTime: 20.0 seconds RetCode: 0 Status: OK