Package: msmsTests Version: 1.36.0 Command: chmod a+r msmsTests -R && F:\biocbuild\bbs-3.16-bioc\R\bin\R.exe CMD build --keep-empty-dirs --no-resave-data msmsTests StartedAt: 2023-04-10 20:01:49 -0400 (Mon, 10 Apr 2023) EndedAt: 2023-04-10 20:02:51 -0400 (Mon, 10 Apr 2023) EllapsedTime: 62.1 seconds RetCode: 0 Status: OK PackageFile: msmsTests_1.36.0.tar.gz PackageFileSize: 303.8 KiB