Package: msmsTests Version: 1.36.0 Command: F:\biocbuild\bbs-3.16-bioc\R\bin\R.exe CMD check --no-multiarch --install=check:msmsTests.install-out.txt --library=F:\biocbuild\bbs-3.16-bioc\R\library --no-vignettes --timings msmsTests_1.36.0.tar.gz StartedAt: 2023-04-11 03:42:09 -0400 (Tue, 11 Apr 2023) EndedAt: 2023-04-11 03:44:31 -0400 (Tue, 11 Apr 2023) EllapsedTime: 141.8 seconds RetCode: 0 Status: OK CheckDir: msmsTests.Rcheck Warnings: 0