git_url: https://git.bioconductor.org/packages/npGSEA git_branch: RELEASE_3_16 git_last_commit: ae5a4ea git_last_commit_date: 2022-11-01 11:09:34 -0400 (Tue, 01 Nov 2022) Package: npGSEA Version: 1.34.0 Maintainer: Jessica Larson MaintainerEmail: larson.jess at gmail.com