Package: npGSEA Version: 1.34.0 Command: /Library/Frameworks/R.framework/Resources/bin/R CMD build --keep-empty-dirs --no-resave-data npGSEA StartedAt: 2023-04-10 17:20:14 -0400 (Mon, 10 Apr 2023) EndedAt: 2023-04-10 17:20:51 -0400 (Mon, 10 Apr 2023) EllapsedTime: 36.2 seconds RetCode: 0 Status: OK PackageFile: npGSEA_1.34.0.tar.gz PackageFileSize: 361.6 KiB