Package: omicplotR Version: 1.18.0 Command: /Library/Frameworks/R.framework/Resources/bin/R CMD INSTALL omicplotR StartedAt: 2023-04-10 15:36:55 -0400 (Mon, 10 Apr 2023) EndedAt: 2023-04-10 15:37:21 -0400 (Mon, 10 Apr 2023) EllapsedTime: 26.4 seconds RetCode: 0 Status: OK