Package: openPrimeRui Version: 1.19.0 Command: /Library/Frameworks/R.framework/Resources/bin/R CMD INSTALL openPrimeRui StartedAt: 2022-07-10 19:48:56 -0400 (Sun, 10 Jul 2022) EndedAt: 2022-07-10 19:49:33 -0400 (Sun, 10 Jul 2022) EllapsedTime: 37.4 seconds RetCode: 0 Status: OK