Package: optimalFlow Version: 1.9.0 Command: /Library/Frameworks/R.framework/Resources/bin/R CMD INSTALL optimalFlow StartedAt: 2022-07-10 19:40:59 -0400 (Sun, 10 Jul 2022) EndedAt: 2022-07-10 19:41:03 -0400 (Sun, 10 Jul 2022) EllapsedTime: 3.3 seconds RetCode: 1 Status: ERROR