Package: optimalFlow Version: 1.10.0 Command: rm -rf optimalFlow.buildbin-libdir && mkdir optimalFlow.buildbin-libdir && /Users/biocbuild/BBS/utils/build-universal.sh optimalFlow_1.10.0.tar.gz /Library/Frameworks/R.framework/Resources/bin/R optimalFlow.buildbin-libdir StartedAt: 2023-04-10 23:55:50 -0400 (Mon, 10 Apr 2023) EndedAt: 2023-04-10 23:56:16 -0400 (Mon, 10 Apr 2023) EllapsedTime: 26.2 seconds RetCode: 0 Status: OK PackageFile: optimalFlow_1.10.0.tgz PackageFileSize: 1.06 MiB