Package: optimalFlow Version: 1.10.0 Command: chmod a+r optimalFlow -R && F:\biocbuild\bbs-3.16-bioc\R\bin\R.exe CMD build --keep-empty-dirs --no-resave-data optimalFlow StartedAt: 2023-04-10 20:19:38 -0400 (Mon, 10 Apr 2023) EndedAt: 2023-04-10 20:29:47 -0400 (Mon, 10 Apr 2023) EllapsedTime: 609.5 seconds RetCode: 0 Status: OK PackageFile: optimalFlow_1.10.0.tar.gz PackageFileSize: 936.5 KiB