Package: optimalFlow Version: 1.10.0 Command: F:\biocbuild\bbs-3.16-bioc\R\bin\R.exe CMD check --no-multiarch --install=check:optimalFlow.install-out.txt --library=F:\biocbuild\bbs-3.16-bioc\R\library --no-vignettes --timings optimalFlow_1.10.0.tar.gz StartedAt: 2023-04-11 04:11:28 -0400 (Tue, 11 Apr 2023) EndedAt: 2023-04-11 04:18:16 -0400 (Tue, 11 Apr 2023) EllapsedTime: 407.8 seconds RetCode: 0 Status: OK CheckDir: optimalFlow.Rcheck Warnings: 0