Package: pram Version: 1.14.0 Command: rm -rf pram.buildbin-libdir && mkdir pram.buildbin-libdir && /Users/biocbuild/BBS/utils/build-universal.sh pram_1.14.0.tar.gz /Library/Frameworks/R.framework/Resources/bin/R pram.buildbin-libdir StartedAt: 2023-04-10 23:57:32 -0400 (Mon, 10 Apr 2023) EndedAt: 2023-04-10 23:58:10 -0400 (Mon, 10 Apr 2023) EllapsedTime: 38.4 seconds RetCode: 0 Status: OK PackageFile: pram_1.14.0.tgz PackageFileSize: 2.48 MiB