Package: pram Version: 1.14.0 Command: rm -rf pram.buildbin-libdir && mkdir pram.buildbin-libdir && F:\biocbuild\bbs-3.16-bioc\R\bin\R.exe CMD INSTALL --build --library=pram.buildbin-libdir pram_1.14.0.tar.gz StartedAt: 2023-04-11 08:31:22 -0400 (Tue, 11 Apr 2023) EndedAt: 2023-04-11 08:32:18 -0400 (Tue, 11 Apr 2023) EllapsedTime: 55.3 seconds RetCode: 0 Status: OK PackageFile: pram_1.14.0.zip PackageFileSize: 2.479 MiB