Package: puma Version: 3.40.0 Command: /home/biocbuild/bbs-3.16-bioc/R/bin/R CMD build --keep-empty-dirs --no-resave-data puma StartedAt: 2023-04-10 17:48:06 -0400 (Mon, 10 Apr 2023) EndedAt: 2023-04-10 17:50:12 -0400 (Mon, 10 Apr 2023) EllapsedTime: 126.2 seconds RetCode: 0 Status: OK PackageFile: puma_3.40.0.tar.gz PackageFileSize: 3.249 MiB