Package: puma Version: 3.40.0 Command: /home/biocbuild/bbs-3.16-bioc/R/bin/R CMD check --install=check:puma.install-out.txt --library=/home/biocbuild/bbs-3.16-bioc/R/site-library --timings puma_3.40.0.tar.gz StartedAt: 2023-04-10 23:08:43 -0400 (Mon, 10 Apr 2023) EndedAt: 2023-04-10 23:14:49 -0400 (Mon, 10 Apr 2023) EllapsedTime: 365.3 seconds RetCode: 0 Status: OK CheckDir: puma.Rcheck Warnings: 0