Package: restfulSE Version: 1.19.0 Command: rm -rf restfulSE.buildbin-libdir && mkdir restfulSE.buildbin-libdir && /Users/biocbuild/BBS/utils/build-universal.sh restfulSE_1.19.0.tar.gz /Library/Frameworks/R.framework/Resources/bin/R restfulSE.buildbin-libdir StartedAt: 2022-07-07 08:52:42 -0400 (Thu, 07 Jul 2022) EndedAt: 2022-07-07 08:53:32 -0400 (Thu, 07 Jul 2022) EllapsedTime: 49.5 seconds RetCode: 0 Status: OK PackageFile: restfulSE_1.19.0.tgz PackageFileSize: 761.6 KiB