Package: restfulSE Version: 1.19.0 Command: /Library/Frameworks/R.framework/Resources/bin/R CMD build --keep-empty-dirs --no-resave-data restfulSE StartedAt: 2022-07-07 03:25:51 -0400 (Thu, 07 Jul 2022) EndedAt: 2022-07-07 03:27:30 -0400 (Thu, 07 Jul 2022) EllapsedTime: 98.9 seconds RetCode: 0 Status: OK PackageFile: restfulSE_1.19.0.tar.gz PackageFileSize: 384.6 KiB