Package: restfulSE Version: 1.19.0 Command: /Library/Frameworks/R.framework/Resources/bin/R CMD INSTALL restfulSE StartedAt: 2022-07-10 16:19:53 -0400 (Sun, 10 Jul 2022) EndedAt: 2022-07-10 16:21:24 -0400 (Sun, 10 Jul 2022) EllapsedTime: 91.5 seconds RetCode: 0 Status: OK