Package: restfulSE Version: 1.19.0 Command: rm -rf restfulSE.buildbin-libdir && mkdir restfulSE.buildbin-libdir && F:\biocbuild\bbs-3.16-bioc\R\bin\R.exe CMD INSTALL --merge-multiarch --build --library=restfulSE.buildbin-libdir restfulSE_1.19.0.tar.gz StartedAt: 2022-09-27 08:01:08 -0400 (Tue, 27 Sep 2022) EndedAt: 2022-09-27 08:01:52 -0400 (Tue, 27 Sep 2022) EllapsedTime: 44.5 seconds RetCode: 0 Status: OK PackageFile: restfulSE_1.19.0.zip PackageFileSize: 779.1 KiB