git_url: https://git.bioconductor.org/packages/rmspc git_branch: RELEASE_3_16 git_last_commit: 81b6483 git_last_commit_date: 2022-11-01 11:25:31 -0400 (Tue, 01 Nov 2022) Package: rmspc Version: 1.4.0 Maintainer: Meriem Bahda MaintainerEmail: meriembahda at gmail.com