Package: rmspc Version: 1.4.0 Command: /home/biocbuild/bbs-3.16-bioc/R/bin/R CMD check --install=check:rmspc.install-out.txt --library=/home/biocbuild/bbs-3.16-bioc/R/site-library --timings rmspc_1.4.0.tar.gz StartedAt: 2023-04-10 23:29:56 -0400 (Mon, 10 Apr 2023) EndedAt: 2023-04-10 23:34:27 -0400 (Mon, 10 Apr 2023) EllapsedTime: 270.8 seconds RetCode: 0 Status: OK CheckDir: rmspc.Rcheck Warnings: 0