Package: rmspc Version: 1.4.0 Command: rm -rf rmspc.buildbin-libdir && mkdir rmspc.buildbin-libdir && F:\biocbuild\bbs-3.16-bioc\R\bin\R.exe CMD INSTALL --build --library=rmspc.buildbin-libdir rmspc_1.4.0.tar.gz StartedAt: 2023-04-11 08:40:00 -0400 (Tue, 11 Apr 2023) EndedAt: 2023-04-11 08:40:31 -0400 (Tue, 11 Apr 2023) EllapsedTime: 31.6 seconds RetCode: 0 Status: OK PackageFile: rmspc_1.4.0.zip PackageFileSize: 1.638 MiB