Package: rmspc Version: 1.4.0 Command: chmod a+r rmspc -R && F:\biocbuild\bbs-3.16-bioc\R\bin\R.exe CMD build --keep-empty-dirs --no-resave-data rmspc StartedAt: 2023-04-10 21:10:06 -0400 (Mon, 10 Apr 2023) EndedAt: 2023-04-10 21:10:59 -0400 (Mon, 10 Apr 2023) EllapsedTime: 52.3 seconds RetCode: 0 Status: OK PackageFile: rmspc_1.4.0.tar.gz PackageFileSize: 1.626 MiB